BEGIN:VCALENDAR
VERSION:2.0
PRODID:-//hacksw/handcal//NONSGML v1.0//EN
BEGIN:VEVENT
UID:20260417T130000Z-TheNRACivilRightsDefenseFundAnnualNationalFirearmsLawSeminar@www.nraam.org
DTSTAMP:20260424T070935Z
DTSTART:20260417T130000Z
DTEND:20260417T220000Z
SUMMARY:The NRA Civil Rights Defense Fund Annual National Firearms Law Seminar
DESCRIPTION:The NRA Civil Rights Defense Fund Annual National Firearms Law Seminar is 
 the largest gathering of Second Amendment attorneys in the country. This y
 ear’s Seminar will feature ATF Chief Counsel Robert Leider.

LOCATION:Ballroom of the Americas DE  I  Hilton Americas - Houston
END:VEVENT
END:VCALENDAR
