BEGIN:VCALENDAR
VERSION:2.0
PRODID:-//hacksw/handcal//NONSGML v1.0//EN
BEGIN:VEVENT
UID:20240518T190000Z-NRALeadershipForum@www.nraam.org
DTSTAMP:20260422T110621Z
DTSTART:20240518T190000Z
DTEND:20240518T210000Z
SUMMARY:NRA Leadership Forum
DESCRIPTION:Attend one of the most politically significant and popular events in the c
 ountry. Admission is free and will be first come, first served. Tickets ar
 e not required but you must be an NRA Member to attend. The forum starts a
 t 2:00 PM, You may start lining up at 11:00 AM and doors will open at 12:0
 0 PM.

LOCATION:Hall A  I  Kay Bailey Hutchison Convention Center
END:VEVENT
END:VCALENDAR
