BEGIN:VCALENDAR
VERSION:2.0
PRODID:-//hacksw/handcal//NONSGML v1.0//EN
BEGIN:VEVENT
UID:20180503T220000Z-NationalNRAFoundationBanquet@www.nraam.org
DTSTAMP:20260423T170306Z
DTSTART:20180503T220000Z
DTEND:20180504T030000Z
SUMMARY:National NRA Foundation Banquet
DESCRIPTION:Enjoy an evening of food, firearms and fundraising
LOCATION:Kay Bailey Hutchison Convention Center
END:VEVENT
END:VCALENDAR
